BEGIN:VCALENDAR
VERSION:2.0
PRODID:-//Central Oregon Locavore - ECPv6.15.20//NONSGML v1.0//EN
CALSCALE:GREGORIAN
METHOD:PUBLISH
X-ORIGINAL-URL:https://centraloregonlocavore.org
X-WR-CALDESC:Events for Central Oregon Locavore
REFRESH-INTERVAL;VALUE=DURATION:PT1H
X-Robots-Tag:noindex
X-PUBLISHED-TTL:PT1H
BEGIN:VTIMEZONE
TZID:UTC
BEGIN:STANDARD
TZOFFSETFROM:+0000
TZOFFSETTO:+0000
TZNAME:UTC
DTSTART:20200101T000000
END:STANDARD
END:VTIMEZONE
BEGIN:VTIMEZONE
TZID:America/Denver
BEGIN:DAYLIGHT
TZOFFSETFROM:-0700
TZOFFSETTO:-0600
TZNAME:MDT
DTSTART:20190310T090000
END:DAYLIGHT
BEGIN:STANDARD
TZOFFSETFROM:-0600
TZOFFSETTO:-0700
TZNAME:MST
DTSTART:20191103T080000
END:STANDARD
BEGIN:DAYLIGHT
TZOFFSETFROM:-0700
TZOFFSETTO:-0600
TZNAME:MDT
DTSTART:20200308T090000
END:DAYLIGHT
BEGIN:STANDARD
TZOFFSETFROM:-0600
TZOFFSETTO:-0700
TZNAME:MST
DTSTART:20201101T080000
END:STANDARD
BEGIN:DAYLIGHT
TZOFFSETFROM:-0700
TZOFFSETTO:-0600
TZNAME:MDT
DTSTART:20210314T090000
END:DAYLIGHT
BEGIN:STANDARD
TZOFFSETFROM:-0600
TZOFFSETTO:-0700
TZNAME:MST
DTSTART:20211107T080000
END:STANDARD
END:VTIMEZONE
BEGIN:VEVENT
DTSTART;TZID=UTC:20211020T090000
DTEND;TZID=UTC:20211020T150000
DTSTAMP:20260420T011856
CREATED:20211005T012829Z
LAST-MODIFIED:20211005T012829Z
UID:10000218-1634720400-1634742000@centraloregonlocavore.org
SUMMARY:Rainshadow Organics Field Day
DESCRIPTION:Rainshadow Organics Farm Tour + 3-Course Plated Lunch\nJoin Quivira Coalition\, Holistic Management International\, and American Grassfed Association for a tour of Rainshadow Organics’ vertically integrated farm-to-table cuisine focused on soil health\, diversity\, and conservation management outside of Sisters\, OR\nDate: Wednesday\, Oct 20th\nTime: 9am-3pm\nCost to attend: $50\, Registration is now open with limited spots available.\nDeadline to register: October 13th\nRegister at quiviracoalition.org/regenerate/\nEmail Lynne@quiviracoalition.org with any questions
URL:https://centraloregonlocavore.org/event/rainshadow-organics-field-day/
CATEGORIES:Community Events
ATTACH;FMTTYPE=image/png:https://centraloregonlocavore.org/wp-content/uploads/2021/10/E1750CF1-A8A9-4E9B-BF5C-8B7A0D7B15D2.png
END:VEVENT
BEGIN:VEVENT
DTSTART;TZID=UTC:20210423T080000
DTEND;TZID=UTC:20210423T170000
DTSTAMP:20260420T011856
CREATED:20210423T233943Z
LAST-MODIFIED:20210423T233943Z
UID:10000150-1619164800-1619197200@centraloregonlocavore.org
SUMMARY:Rethink Food Waste: Preparing Parts and Pieces
DESCRIPTION:Join local cookbook author Linda Ly and pro butcher Bryan Mayer to learn about all edible parts of the vegetable and animal. \nWe’re excited to sit down with food maestros extraordinaire: Linda Ly and Bryan Mayer who will talk about their professional experience in preparing and cooking the whole organism. \nA live Spanish interpreter will be present. \nLinda is a local Central Oregon cookbook author whose newest book\, “The No-Waste Vegetable Cookbook”\, helps us explore delicious recipes sometimes using ingredients that might otherwise get tossed. Learn more about Linda on her website GardenBetty.com \nBryan\, joining us from the island of Oahu\, works as a butcher for Maui Nui Venison whose company is turning the invasive deer species into a sustainable food source. Learn more about Bryan on his website at MeatBryan.com \nWe’ll be giving away 7 copies of Linda’s latest cookbook as well as a $50 gift card to Central Oregon Locavore so you can start practicing how you will Prepare the Parts and Pieces of the whole organism. *LOCAL PICK-UP ONLY*
URL:https://centraloregonlocavore.org/event/rethink-food-waste-preparing-parts-and-pieces/
CATEGORIES:Community Events
ATTACH;FMTTYPE=image/png:https://centraloregonlocavore.org/wp-content/uploads/2021/04/CombinedHeadShots_BryanandLinda.png
END:VEVENT
BEGIN:VEVENT
DTSTART;TZID=America/Denver:20201212T090000
DTEND;TZID=America/Denver:20201212T160000
DTSTAMP:20260420T011856
CREATED:20201024T013901Z
LAST-MODIFIED:20201024T013901Z
UID:10000145-1607763600-1607788800@centraloregonlocavore.org
SUMMARY:Locavore Holiday Gift Faire Pick Up
DESCRIPTION:Contactless pickup for online Locavore Holiday Gift Faire orders.
URL:https://centraloregonlocavore.org/event/locavore-holiday-gift-faire-pick-up/
CATEGORIES:Community Events
END:VEVENT
BEGIN:VEVENT
DTSTART;TZID=America/Denver:20201103T180000
DTEND;TZID=America/Denver:20201103T200000
DTSTAMP:20260420T011856
CREATED:20201024T013120Z
LAST-MODIFIED:20201024T013120Z
UID:10000144-1604426400-1604433600@centraloregonlocavore.org
SUMMARY:Bingo Night at Rivers Place benefitting Locavore
DESCRIPTION:Join us for food\, fun\, and bingo benefitting Locavore non-profit every Tuesday night in November. What will you win? Cash? Locavore gift cards? Locavore membership? A frozen local chicken? Come on down and see!
URL:https://centraloregonlocavore.org/event/bingo-night-at-rivers-place-benefitting-locavore/2020-11-03/
CATEGORIES:Community Events
END:VEVENT
BEGIN:VEVENT
DTSTART;TZID=America/Denver:20200128T180000
DTEND;TZID=America/Denver:20200128T203000
DTSTAMP:20260420T011856
CREATED:20200123T053604Z
LAST-MODIFIED:20200123T053604Z
UID:10000122-1580234400-1580243400@centraloregonlocavore.org
SUMMARY:InFARMation (& Beer!): How and Why to Buy Local Meat
DESCRIPTION:Buying local meat can be a daunting task. Who do you buy from? Does it matter if the meat was ”pasture raised”? What does buying “half a cow” mean? We’re tackling these questions and more as we dive into the why and how to purchase local meat with local producers\, butchers\, and consumers. Join us for a panel discussion\, Q&A\, and a ”meat and greet” with local producers. InFARMation sessions are educational events that brings eaters and farmers together to talk about the most pressing issues facing Oregon’s family farms and sustainable local food systems.
URL:https://centraloregonlocavore.org/event/infarmation-beer-how-and-why-to-buy-local-meat/
CATEGORIES:Community Events
ATTACH;FMTTYPE=:
END:VEVENT
BEGIN:VEVENT
DTSTART;TZID=America/Denver:20200125T170000
DTEND;TZID=America/Denver:20200125T190000
DTSTAMP:20260420T011856
CREATED:20200123T053014Z
LAST-MODIFIED:20200123T053014Z
UID:10000121-1579971600-1579978800@centraloregonlocavore.org
SUMMARY:Farm Film Night with Rogue Farm Corps
DESCRIPTION:Join for an evening of short films about regenerative agriculture and learn how Rogue Farm Corps is training and equipping the next generation of farmers and ranchers! This event is FREE and open to the public. Drink sales benefit Rogue Farm Corps.
URL:https://centraloregonlocavore.org/event/farm-film-night-with-rogue-farm-corps/
CATEGORIES:Community Events
ATTACH;FMTTYPE=:
END:VEVENT
END:VCALENDAR