BEGIN:VCALENDAR
VERSION:2.0
PRODID:-//Central Oregon Locavore - ECPv6.15.20//NONSGML v1.0//EN
CALSCALE:GREGORIAN
METHOD:PUBLISH
X-ORIGINAL-URL:https://centraloregonlocavore.org
X-WR-CALDESC:Events for Central Oregon Locavore
REFRESH-INTERVAL;VALUE=DURATION:PT1H
X-Robots-Tag:noindex
X-PUBLISHED-TTL:PT1H
BEGIN:VTIMEZONE
TZID:America/Denver
BEGIN:DAYLIGHT
TZOFFSETFROM:-0700
TZOFFSETTO:-0600
TZNAME:MDT
DTSTART:20160313T090000
END:DAYLIGHT
BEGIN:STANDARD
TZOFFSETFROM:-0600
TZOFFSETTO:-0700
TZNAME:MST
DTSTART:20161106T080000
END:STANDARD
BEGIN:DAYLIGHT
TZOFFSETFROM:-0700
TZOFFSETTO:-0600
TZNAME:MDT
DTSTART:20170312T090000
END:DAYLIGHT
BEGIN:STANDARD
TZOFFSETFROM:-0600
TZOFFSETTO:-0700
TZNAME:MST
DTSTART:20171105T080000
END:STANDARD
BEGIN:DAYLIGHT
TZOFFSETFROM:-0700
TZOFFSETTO:-0600
TZNAME:MDT
DTSTART:20180311T090000
END:DAYLIGHT
BEGIN:STANDARD
TZOFFSETFROM:-0600
TZOFFSETTO:-0700
TZNAME:MST
DTSTART:20181104T080000
END:STANDARD
BEGIN:DAYLIGHT
TZOFFSETFROM:-0700
TZOFFSETTO:-0600
TZNAME:MDT
DTSTART:20190310T090000
END:DAYLIGHT
BEGIN:STANDARD
TZOFFSETFROM:-0600
TZOFFSETTO:-0700
TZNAME:MST
DTSTART:20191103T080000
END:STANDARD
END:VTIMEZONE
BEGIN:VEVENT
DTSTART;TZID=America/Denver:20180111T163000
DTEND;TZID=America/Denver:20180111T173000
DTSTAMP:20260420T024945
CREATED:20171218T211147Z
LAST-MODIFIED:20171218T211147Z
UID:10000040-1515688200-1515691800@centraloregonlocavore.org
SUMMARY:Locavore Food School Presents: Natural Beekeeping
DESCRIPTION:This class will explore where and when to get your bees and provide the information necessary to successfully get started.
URL:https://centraloregonlocavore.org/event/locavore-food-school-presents-natural-beekeeping/
CATEGORIES:Locavore Food School
END:VEVENT
BEGIN:VEVENT
DTSTART;TZID=America/Denver:20170420T163000
DTEND;TZID=America/Denver:20170420T173000
DTSTAMP:20260420T024945
CREATED:20170217T015005Z
LAST-MODIFIED:20170217T015005Z
UID:10000022-1492705800-1492709400@centraloregonlocavore.org
SUMMARY:Locavore Food School
DESCRIPTION:
URL:https://centraloregonlocavore.org/event/locavore-food-school-2/2017-04-20/
CATEGORIES:Locavore Food School
END:VEVENT
BEGIN:VEVENT
DTSTART;TZID=America/Denver:20170316T163000
DTEND;TZID=America/Denver:20170316T173000
DTSTAMP:20260420T024945
CREATED:20170217T014852Z
LAST-MODIFIED:20170217T014852Z
UID:10000012-1489681800-1489685400@centraloregonlocavore.org
SUMMARY:Locavore Food School
DESCRIPTION:
URL:https://centraloregonlocavore.org/event/locavore-food-school/
CATEGORIES:Locavore Food School
END:VEVENT
END:VCALENDAR