BEGIN:VCALENDAR
VERSION:2.0
PRODID:-//Central Oregon Locavore - ECPv6.15.20//NONSGML v1.0//EN
CALSCALE:GREGORIAN
METHOD:PUBLISH
X-WR-CALNAME:Central Oregon Locavore
X-ORIGINAL-URL:https://centraloregonlocavore.org
X-WR-CALDESC:Events for Central Oregon Locavore
REFRESH-INTERVAL;VALUE=DURATION:PT1H
X-Robots-Tag:noindex
X-PUBLISHED-TTL:PT1H
BEGIN:VTIMEZONE
TZID:America/Denver
BEGIN:DAYLIGHT
TZOFFSETFROM:-0700
TZOFFSETTO:-0600
TZNAME:MDT
DTSTART:20180311T090000
END:DAYLIGHT
BEGIN:STANDARD
TZOFFSETFROM:-0600
TZOFFSETTO:-0700
TZNAME:MST
DTSTART:20181104T080000
END:STANDARD
BEGIN:DAYLIGHT
TZOFFSETFROM:-0700
TZOFFSETTO:-0600
TZNAME:MDT
DTSTART:20190310T090000
END:DAYLIGHT
BEGIN:STANDARD
TZOFFSETFROM:-0600
TZOFFSETTO:-0700
TZNAME:MST
DTSTART:20191103T080000
END:STANDARD
BEGIN:DAYLIGHT
TZOFFSETFROM:-0700
TZOFFSETTO:-0600
TZNAME:MDT
DTSTART:20200308T090000
END:DAYLIGHT
BEGIN:STANDARD
TZOFFSETFROM:-0600
TZOFFSETTO:-0700
TZNAME:MST
DTSTART:20201101T080000
END:STANDARD
END:VTIMEZONE
BEGIN:VEVENT
DTSTART;TZID=America/Denver:20191130T110000
DTEND;TZID=America/Denver:20191130T130000
DTSTAMP:20260420T170743
CREATED:20191115T215001Z
LAST-MODIFIED:20191115T215001Z
UID:10000111-1575111600-1575118800@centraloregonlocavore.org
SUMMARY:Vendor Demo: Te(h)la Bags and toys
DESCRIPTION:Meet Freya\, artist behind Te(h)la cloth bags and toys
URL:https://centraloregonlocavore.org/event/vendor-demo-tehla-bags-and-toys/
CATEGORIES:Vendor Demo
END:VEVENT
BEGIN:VEVENT
DTSTART;TZID=America/Denver:20191123T140000
DTEND;TZID=America/Denver:20191123T160000
DTSTAMP:20260420T170743
CREATED:20191115T214823Z
LAST-MODIFIED:20191115T214823Z
UID:10000110-1574517600-1574524800@centraloregonlocavore.org
SUMMARY:Vendor Demo: Mystic Roots
DESCRIPTION:Meet the beautiful makers of Mystic Roots skincare line
URL:https://centraloregonlocavore.org/event/vendor-demo-mystic-roots/
CATEGORIES:Vendor Demo
END:VEVENT
BEGIN:VEVENT
DTSTART;TZID=America/Denver:20191123T110000
DTEND;TZID=America/Denver:20191123T130000
DTSTAMP:20260420T170743
CREATED:20191115T214729Z
LAST-MODIFIED:20191115T214729Z
UID:10000109-1574506800-1574514000@centraloregonlocavore.org
SUMMARY:Vendor Demo: Lydia's Chocolates
DESCRIPTION:Meet Lydia\, and sample her swoon worthy locally made chocolate
URL:https://centraloregonlocavore.org/event/vendor-demo-lydias-chocolates/
CATEGORIES:Vendor Demo
END:VEVENT
BEGIN:VEVENT
DTSTART;TZID=America/Denver:20191121T160000
DTEND;TZID=America/Denver:20191121T180000
DTSTAMP:20260420T170744
CREATED:20191018T184747Z
LAST-MODIFIED:20191018T184747Z
UID:10000103-1574352000-1574359200@centraloregonlocavore.org
SUMMARY:Locavore Food School: Handmade Tamales with El Sancho Taco Shop
DESCRIPTION:Attendance at the Hand Made Tortilla Class on November 7th recommended to learn proper masa handling techniques for this class.\nCost: $10 Current Locavore Member / $15 Non-Member
URL:https://centraloregonlocavore.org/event/locavore-food-school-handmade-tamales-with-el-sancho-taco-shop/
CATEGORIES:Locavore Food School
END:VEVENT
BEGIN:VEVENT
DTSTART;TZID=America/Denver:20191120T110000
DTEND;TZID=America/Denver:20191120T130000
DTSTAMP:20260420T170744
CREATED:20191115T214619Z
LAST-MODIFIED:20191115T214619Z
UID:10000108-1574247600-1574254800@centraloregonlocavore.org
SUMMARY:Vendor Demo: Te(h)la Bags
DESCRIPTION:Meet Freya\, the wonderful artist behind Te(h)la bags and toys
URL:https://centraloregonlocavore.org/event/vendor-demo-tehla-bags/
CATEGORIES:Vendor Demo
END:VEVENT
BEGIN:VEVENT
DTSTART;TZID=America/Denver:20191116T100000
DTEND;TZID=America/Denver:20191116T140000
DTSTAMP:20260420T170744
CREATED:20191115T214446Z
LAST-MODIFIED:20191115T214446Z
UID:10000107-1573898400-1573912800@centraloregonlocavore.org
SUMMARY:Vendor Demo: Coalition Tea
DESCRIPTION:Meet and greet the makers of Coalition Tea at Locavore
URL:https://centraloregonlocavore.org/event/vendor-demo-coalition-tea/
CATEGORIES:Vendor Demo
END:VEVENT
BEGIN:VEVENT
DTSTART;TZID=America/Denver:20191108T120000
DTEND;TZID=America/Denver:20191108T130000
DTSTAMP:20260420T170744
CREATED:20191027T200654Z
LAST-MODIFIED:20191027T200654Z
UID:10000105-1573214400-1573218000@centraloregonlocavore.org
SUMMARY:Locavore Food School: Lunchbox Art to Get Picky Little Eaters to Gobble it Down
DESCRIPTION:What: Learn how to make cute and nutritious lunchbox art to help those picky little eaters gobble it all up\nWho: Terrie\, Super Mom\nCost: $5 Current Locavore members / $8 Non-Members\nFree to WIC and SNAP recipients
URL:https://centraloregonlocavore.org/event/locavore-food-school-lunchbox-art-to-get-picky-little-eaters-to-gobble-it-down/
CATEGORIES:Locavore Food School
END:VEVENT
BEGIN:VEVENT
DTSTART;TZID=America/Denver:20191107T163000
DTEND;TZID=America/Denver:20191107T173000
DTSTAMP:20260420T170744
CREATED:20191018T184903Z
LAST-MODIFIED:20191018T184903Z
UID:10000104-1573144200-1573147800@centraloregonlocavore.org
SUMMARY:Locaovre Food School: Handmade Tortillas with El Sancho Taco Shop
DESCRIPTION:Cost: $5 Current Locavore Member / $8 Non Member
URL:https://centraloregonlocavore.org/event/locaovre-food-school-handmade-tortillas-with-el-sancho-taco-shop/
CATEGORIES:Locavore Food School
END:VEVENT
BEGIN:VEVENT
DTSTART;TZID=America/Denver:20191020T163000
DTEND;TZID=America/Denver:20191020T190000
DTSTAMP:20260420T170744
CREATED:20191008T033029Z
LAST-MODIFIED:20191008T033029Z
UID:10000102-1571589000-1571598000@centraloregonlocavore.org
SUMMARY:Fall Round Up Rodeo\, Ho Down at Rockin Daves Backstage Lounge to Benefit Locavore
DESCRIPTION:Join us at Rockin Daves Backstage Lounge as we celebrate the successful harvest Central Oregon style\, with a good ol’ Ho Down. \n\nFarm to Table BBQ feast featuring Barley Beef\nSpecialty Cocktails\nLive Music from\nRodeo Games\n\nwill all benefit Central Oregon Locavore Non-Profit and their fundraiser for an updated Point of Sale System in the Indoor Marketplace.\nCome on down and Kick Up Yer Spurs with us!\nRSVP for BBQ Dinner – $18 per person or $22 Rounded On Up to Support Locavore.\n(You may purchase BBQ dinner upon arrival\, but to ensure you get a meal\, we recommend you reserve ahead of time).
URL:https://centraloregonlocavore.org/event/fall-round-up-rodeo-ho-down-at-rockin-daves-backstage-lounge-to-benefit-locavore/
CATEGORIES:Celebrations & Parties
END:VEVENT
BEGIN:VEVENT
DTSTART;TZID=America/Denver:20191019T090000
DTEND;TZID=America/Denver:20191019T120000
DTSTAMP:20260420T170744
CREATED:20191002T054840Z
LAST-MODIFIED:20191002T054840Z
UID:10000101-1571475600-1571486400@centraloregonlocavore.org
SUMMARY:Edible Adventure Crew Potato Diggin Day at Rainshadow Organics
DESCRIPTION:Where: Rainshadow Organics\nGleaning the potatoes left behind by the potato picker! Bring own bags\, gloves and shovels.\nMust register to attend.
URL:https://centraloregonlocavore.org/event/edible-adventure-crew-potato-diggin-day-at-rainshadow-organics/
CATEGORIES:Edible Adventure Crew
END:VEVENT
BEGIN:VEVENT
DTSTART;TZID=America/Denver:20191017T163000
DTEND;TZID=America/Denver:20191017T173000
DTSTAMP:20260420T170744
CREATED:20190904T011118Z
LAST-MODIFIED:20190904T011118Z
UID:10000099-1571329800-1571333400@centraloregonlocavore.org
SUMMARY:Locavore Food School - Nourishing Herbal Infusions
DESCRIPTION:What: Learn how to make nourishing herbal infusions\nWho: Laura Parker\, Community Created Herbalist\nCost: $5 Current Locavore members / $8 Non-Members / Free WIC & SNAP recipients
URL:https://centraloregonlocavore.org/event/locavore-food-school-nourishing-herbal-infusions/
END:VEVENT
BEGIN:VEVENT
DTSTART;TZID=America/Denver:20191007T090000
DTEND;TZID=America/Denver:20191007T140000
DTSTAMP:20260420T170744
CREATED:20191002T054423Z
LAST-MODIFIED:20191002T054423Z
UID:10000100-1570438800-1570456800@centraloregonlocavore.org
SUMMARY:Edible Adventure Crew - Gleaning Bonanza at Windflower Farm
DESCRIPTION:When: October 7th 9am – 2pm\nWhere: Windflower Farm\nWhat: Gleaning for Locavore\, The Bend Food Project\, and you!\nRegistration required to attend
URL:https://centraloregonlocavore.org/event/edible-adventure-crew-gleaning-bonanza-at-windflower-farm/
CATEGORIES:Edible Adventure Crew
END:VEVENT
BEGIN:VEVENT
DTSTART;TZID=America/Denver:20190927T080000
DTEND;TZID=America/Denver:20190927T170000
DTSTAMP:20260420T170744
CREATED:20190701T173444Z
LAST-MODIFIED:20190701T173444Z
UID:10000097-1569571200-1569603600@centraloregonlocavore.org
SUMMARY:Edible Adventure Crew - Apple Rally at Kimberly Orchards
DESCRIPTION:When: September 27th\, 8am to 5pm \nWhere: Kimberly Orchards\nWhat: Carpool to Kimberly and enjoy a discounted price\n\nRegistration required to attend
URL:https://centraloregonlocavore.org/event/edible-adventure-crew-apple-rally-at-kimberly-orchards/
CATEGORIES:Edible Adventure Crew
END:VEVENT
BEGIN:VEVENT
DTSTART;TZID=America/Denver:20190919T163000
DTEND;TZID=America/Denver:20190919T173000
DTSTAMP:20260420T170744
CREATED:20190904T010751Z
LAST-MODIFIED:20190904T010751Z
UID:10000098-1568910600-1568914200@centraloregonlocavore.org
SUMMARY:Locavore Food School - Kholrabi 101 with Chef James Fink
DESCRIPTION:What: Learn how to use Kholrabi to make 4 different delicious and nutritious dishes.\nWho: Chef James Fink from Wild Oregon Foods will be your teacher\nCost: $5 Current Locavore members / $8 Non-Members / Free WIC & SNAP recipients
URL:https://centraloregonlocavore.org/event/locavore-food-school-kholrabi-101-with-chef-james-fink/
CATEGORIES:Locavore Food School
END:VEVENT
BEGIN:VEVENT
DTSTART;TZID=America/Denver:20190822T180000
DTEND;TZID=America/Denver:20190822T210000
DTSTAMP:20260420T170744
CREATED:20190626T211014Z
LAST-MODIFIED:20190626T211014Z
UID:10000093-1566496800-1566507600@centraloregonlocavore.org
SUMMARY:Meet Your Farmer dinner featuring Mahonia Gardens and Splitting Aces Livestock at 10 Below in The Oxford Hotel
DESCRIPTION:When: August 22nd\, 6pm-9pm\nWhere: 10 Below at The Oxford Hotel\nWhat: Gourmet farm to table dinner featuring presentations from the farmer\nCost: $65 Current Locavore members / $75 non-members (includes gratuity)
URL:https://centraloregonlocavore.org/event/meet-your-farmer-dinner-featuring-mahonia-gardens-and-splitting-aces-livestock-at-10-below-in-the-oxford-hotel/
CATEGORIES:Meet Your Farmer Dinner Series
END:VEVENT
BEGIN:VEVENT
DTSTART;TZID=America/Denver:20190818T100000
DTEND;TZID=America/Denver:20190818T150000
DTSTAMP:20260420T170744
CREATED:20190612T201553Z
LAST-MODIFIED:20190612T201553Z
UID:10000092-1566122400-1566140400@centraloregonlocavore.org
SUMMARY:WWOLF - Willing Workers on Local Farms at Golden Eagle Organics\, Bend
DESCRIPTION:When: August 18th\, 10am – 3pm\nWhere: Golden Eagle Organics\, Bend\nWhat: On farm volunteer work day\nMust register to attend.
URL:https://centraloregonlocavore.org/event/wwolf-willing-workers-on-local-farms-at-golden-eagle-organics-bend/
CATEGORIES:WWOLF
END:VEVENT
BEGIN:VEVENT
DTSTART;TZID=America/Denver:20190811T080000
DTEND;TZID=America/Denver:20190811T170000
DTSTAMP:20260420T170744
CREATED:20190701T173328Z
LAST-MODIFIED:20190701T173328Z
UID:10000096-1565510400-1565542800@centraloregonlocavore.org
SUMMARY:Edible Adventure Crew: Peaches and Nectarines at Kimberly
DESCRIPTION:When: August 11th\, 8am to 5pm\nWhere: Kimberly Orchards\nWhat: Carpool to Kimberly and enjoy a discounted price\n\nRegistration required to attend
URL:https://centraloregonlocavore.org/event/edible-adventure-crew-peaches-and-nectarines-at-kimberly/
CATEGORIES:Edible Adventure Crew
END:VEVENT
BEGIN:VEVENT
DTSTART;TZID=America/Denver:20190728T100000
DTEND;TZID=America/Denver:20190728T150000
DTSTAMP:20260420T170744
CREATED:20190513T181704Z
LAST-MODIFIED:20190513T181704Z
UID:10000088-1564308000-1564326000@centraloregonlocavore.org
SUMMARY:WWOLF - Willing Workers On Local Foods at Juniper Jungle Learning Farm
DESCRIPTION:On farm volunteer work day (lunch included)\nFree\, but registration required to attend
URL:https://centraloregonlocavore.org/event/wwolf-willing-workers-on-local-foods-at-juniper-jungle-learning-farm/
CATEGORIES:WWOLF
END:VEVENT
BEGIN:VEVENT
DTSTART;TZID=America/Denver:20190721T080000
DTEND;TZID=America/Denver:20190721T170000
DTSTAMP:20260420T170744
CREATED:20190701T173226Z
LAST-MODIFIED:20190701T173226Z
UID:10000095-1563696000-1563728400@centraloregonlocavore.org
SUMMARY:Edible Adventure Crew - Blueberry Daze at Springbank
DESCRIPTION:When: July 21st\, 8am to 5pm \nWhere: Springbank Farms\, Lebanon\nWhat: Carpool to Springbank and enjoy a discounted price of $2.60/lb (just for Locavore!)\n\nRegistration required to attend
URL:https://centraloregonlocavore.org/event/edible-adventure-crew-blueberry-daze-at-springbank/
CATEGORIES:Edible Adventure Crew
END:VEVENT
BEGIN:VEVENT
DTSTART;TZID=America/Denver:20190714T080000
DTEND;TZID=America/Denver:20190714T170000
DTSTAMP:20260420T170744
CREATED:20190701T173108Z
LAST-MODIFIED:20190701T173108Z
UID:10000094-1563091200-1563123600@centraloregonlocavore.org
SUMMARY:Edible Adventure Crew
DESCRIPTION:When: July 14th\, 8am to 5pm\nWhere: Kimberly Orchards\, in Kimberly\, OR\nWhat: Carpool to Kimberly Orchards and enjoy a discounted price for all of their delicious fruit\n\nRegistration required to attend
URL:https://centraloregonlocavore.org/event/edible-adventure-crew/
CATEGORIES:Edible Adventure Crew
END:VEVENT
BEGIN:VEVENT
DTSTART;TZID=America/Denver:20190713T100000
DTEND;TZID=America/Denver:20190713T150000
DTSTAMP:20260420T170744
CREATED:20190513T181537Z
LAST-MODIFIED:20190513T181537Z
UID:10000087-1563012000-1563030000@centraloregonlocavore.org
SUMMARY:WWOLF - Willing Workers On Local Farms at Fields Farm
DESCRIPTION:On Farm volunteer work day – lunch included!\nFree\, but registration required to attend
URL:https://centraloregonlocavore.org/event/wwolf-willing-workers-on-local-farms-at-fields-farm/
CATEGORIES:WWOLF
END:VEVENT
BEGIN:VEVENT
DTSTART;TZID=America/Denver:20190622T100000
DTEND;TZID=America/Denver:20190622T150000
DTSTAMP:20260420T170744
CREATED:20190513T181403Z
LAST-MODIFIED:20190513T181403Z
UID:10000086-1561197600-1561215600@centraloregonlocavore.org
SUMMARY:WWOLF - Willing Workers On Local Farms at Rainshadow
DESCRIPTION:On Farm volunteer work day – lunch included!\nFree\, but registration required to attend
URL:https://centraloregonlocavore.org/event/wwolf-willing-workers-on-local-farms-at-rainshadow/
CATEGORIES:WWOLF
END:VEVENT
BEGIN:VEVENT
DTSTART;TZID=America/Denver:20190616T163000
DTEND;TZID=America/Denver:20190616T193000
DTSTAMP:20260420T170744
CREATED:20190408T182459Z
LAST-MODIFIED:20190408T182459Z
UID:10000084-1560702600-1560713400@centraloregonlocavore.org
SUMMARY:2nd Annual Sanchovore On-Farm Dinner with Locavore and El Sancho
DESCRIPTION:Join Locavore and Bend classic favorite El Sancho Taco Shop at Anker Farm this Fathers day for a righteous fiesta de father\, party de padre and good time for all. This is nacho ordinary Fathers Day gift\, this is an experience your pop will remember for a lifetime!
URL:https://centraloregonlocavore.org/event/2nd-annual-sanchovore-on-farm-dinner-with-locavore-and-el-sancho/
CATEGORIES:Celebrations & Parties
END:VEVENT
BEGIN:VEVENT
DTSTART;VALUE=DATE:20190615
DTEND;VALUE=DATE:20190616
DTSTAMP:20260420T170744
CREATED:20190601T042437Z
LAST-MODIFIED:20190601T042437Z
UID:10000091-1560556800-1560643199@centraloregonlocavore.org
SUMMARY:Member Appreciation Day
DESCRIPTION:Join us for our bi-annual membership appreciation day and enjoy savings on the entire Locavore marketplace. Samples\, deep discounts\, specialty sales\, and lots of fun to be had.\nIf you are not a member\, join the day of and reap the benefits!
URL:https://centraloregonlocavore.org/event/member-appreciation-day-2/
CATEGORIES:Celebrations & Parties
END:VEVENT
BEGIN:VEVENT
DTSTART;TZID=America/Denver:20190613T163000
DTEND;TZID=America/Denver:20190613T173000
DTSTAMP:20260420T170744
CREATED:20190513T181859Z
LAST-MODIFIED:20190513T181859Z
UID:10000089-1560443400-1560447000@centraloregonlocavore.org
SUMMARY:Locavore Food School - Making Berry Chia Jam
DESCRIPTION:Learn how to make sugar-free or low sugar berry jam using chia seeds.\nBlackberry Cardamom\nMixed Berry Cinnamon\nStrawberry Basil
URL:https://centraloregonlocavore.org/event/locavore-food-school-making-berry-chia-jam/
CATEGORIES:Locavore Food School
END:VEVENT
BEGIN:VEVENT
DTSTART;TZID=America/Denver:20190530T163000
DTEND;TZID=America/Denver:20190530T173000
DTSTAMP:20260420T170744
CREATED:20190513T200659Z
LAST-MODIFIED:20190513T200659Z
UID:10000090-1559233800-1559237400@centraloregonlocavore.org
SUMMARY:Locavore Food School: Wine School - Choosing Good Wines That Reflect Your Values
DESCRIPTION:When: Thursday\, May 30th 4:30 to 5:30\nWhere: Locavore\nCost: $5 Current Locavore members/$8 non-members
URL:https://centraloregonlocavore.org/event/locavore-food-school-wine-school-choosing-good-wines-that-reflect-your-values/
CATEGORIES:Locavore Food School
END:VEVENT
BEGIN:VEVENT
DTSTART;TZID=America/Denver:20190510T100000
DTEND;TZID=America/Denver:20190510T150000
DTSTAMP:20260420T170744
CREATED:20190320T201855Z
LAST-MODIFIED:20190320T201855Z
UID:10000083-1557482400-1557500400@centraloregonlocavore.org
SUMMARY:WWOLF at Mahonia Gardens - Sisters
DESCRIPTION:How It Works You will meet the group at Mahonia Gardens. After a round of introductions at the farm\, we will split into groups and get to work. We will break for lunch around noon and then return to work until about 3pm.\nWhat to Expect Good times\, new friends\, and a boots-on-the-ground education about local farming practices. Children are welcome with adult supervision. We love dogs\, but please leave them at home for this event.\nWhat to Bring Snacks\, work gloves\, closed-toe shoes\, layers for the weather\, water\, and sunscreen. Tools and all materials needed to complete tasks will be provided by the farm. Lunch will be provided.
URL:https://centraloregonlocavore.org/event/wwolf-at-mahonia-gardens-sisters/
CATEGORIES:WWOLF
END:VEVENT
BEGIN:VEVENT
DTSTART;TZID=America/Denver:20190503T180000
DTEND;TZID=America/Denver:20190503T210000
DTSTAMP:20260420T170744
CREATED:20190201T215527Z
LAST-MODIFIED:20190201T215527Z
UID:10000076-1556906400-1556917200@centraloregonlocavore.org
SUMMARY:4th Annual Faces of Farming Gala at Tetherow
DESCRIPTION:Do you love fresh\, nourishing food and the hard-working souls who make it possible?\nWe invite you to join us\, Friday\, May 3rd\, at The Tetherow Resort Event Pavilion for an evening of artful and delicious surprise\, designed to honor the hardy and dedicated people who grow and raise our food in Central Oregon.\nThis event will include a photograph narrative of our local farmers and ranchers\, a silent auction\, local wine\, beer and cocktails\, and an extensive menu showcasing the bounty of local farms and ranches brought to you by Chef Miguel and the culinary team at Tetherow.  \nThis years theme is Innovation in Farming. As casually observed by many\, and truly noticed by few\, farmers are the ultimate innovators. From fixing broken machinery\, to crafting complex security systems for curious livestock\, to gently tricking plants to a higher yield\, an extra month of production\, or an early germination\, farmers and ranchers are the ultimate craftsman. It takes a certain type of ingenuity\, or mad genius\, to contend with nature. And farmers have just that type of genius it takes. After all\, necessity is the mother of creation.\n \n\n“A good farmer is nothing more nor less than a handy man with a sense of humus.” – E.B. White\n“We have neglected the truth that a good farmer is a craftsman of the highest order\, a kind of artist.”  Wendell Berry\, The Gift of Good Land: Further Essays Cultural and Agricultural\n\n\nWe believe in the power of the land and the people who cultivate it for our well-being. At Central Oregon Locavore\, we know that the future of farming and local food will depend upon the support and encouragement that we provide to local farmers and ranchers. Faces of Farming serves to connect those passionate about our sustainability\, cultivates strong relationships and celebrates the potential in all of us.\n\n\nMenu\n\n\n Coming soon… \n\n\nTickets\nEarly Bird: $75 Locavore Member/$85 Non-Member until March 10th\nRegular Price: $85 Locavore Member/$95 Non-Member\n\nBuy a table! $600 seats 8 guests ($75/person)
URL:https://centraloregonlocavore.org/event/4th-annual-faces-of-farming-gala-at-tetherow/
CATEGORIES:Celebrations & Parties
END:VEVENT
BEGIN:VEVENT
DTSTART;TZID=America/Denver:20190426T100000
DTEND;TZID=America/Denver:20190426T150000
DTSTAMP:20260420T170744
CREATED:20190320T201611Z
LAST-MODIFIED:20190320T201611Z
UID:10000082-1556272800-1556290800@centraloregonlocavore.org
SUMMARY:WWOLF at Windy Acres Dairy - Prineville
DESCRIPTION:How It Works You will meet the group at Windy Acres Dairy Farm. After a round of introductions at the farm\, we will split into groups and get to work. We will break for lunch around noon and then return to work until about 3pm.\nWhat to Expect Good times\, new friends\, and a boots-on-the-ground education about local farming practices. Children are welcome with adult supervision. We love dogs\, but please leave them at home for this event.\nWhat to Bring Snacks\, work gloves\, closed-toe shoes\, layers for the weather\, water\, and sunscreen. Tools and all materials needed to complete tasks will be provided by the farm. Lunch will be provided.
URL:https://centraloregonlocavore.org/event/wwolf-at-windy-acres-dairy-prineville/
CATEGORIES:WWOLF
END:VEVENT
BEGIN:VEVENT
DTSTART;TZID=America/Denver:20190416T163000
DTEND;TZID=America/Denver:20190416T173000
DTSTAMP:20260420T170744
CREATED:20190413T015214Z
LAST-MODIFIED:20190413T015214Z
UID:10000085-1555432200-1555435800@centraloregonlocavore.org
SUMMARY:Locavore Food School: Pickling and Fermenting Anyone Can Do
DESCRIPTION:Join Chris “Tap” Mitchell of Boneyard Pub for a action packed class teaching you how to pickle radishes\, make your own Cortido and ferment like a pro.
URL:https://centraloregonlocavore.org/event/locavore-food-school-pickling-and-fermenting-anyone-can-do/
CATEGORIES:Locavore Food School
END:VEVENT
END:VCALENDAR