BEGIN:VCALENDAR
VERSION:2.0
PRODID:-//Central Oregon Locavore - ECPv6.15.20//NONSGML v1.0//EN
CALSCALE:GREGORIAN
METHOD:PUBLISH
X-WR-CALNAME:Central Oregon Locavore
X-ORIGINAL-URL:https://centraloregonlocavore.org
X-WR-CALDESC:Events for Central Oregon Locavore
REFRESH-INTERVAL;VALUE=DURATION:PT1H
X-Robots-Tag:noindex
X-PUBLISHED-TTL:PT1H
BEGIN:VTIMEZONE
TZID:America/Los_Angeles
BEGIN:DAYLIGHT
TZOFFSETFROM:-0800
TZOFFSETTO:-0700
TZNAME:PDT
DTSTART:20210314T100000
END:DAYLIGHT
BEGIN:STANDARD
TZOFFSETFROM:-0700
TZOFFSETTO:-0800
TZNAME:PST
DTSTART:20211107T090000
END:STANDARD
BEGIN:DAYLIGHT
TZOFFSETFROM:-0800
TZOFFSETTO:-0700
TZNAME:PDT
DTSTART:20220313T100000
END:DAYLIGHT
BEGIN:STANDARD
TZOFFSETFROM:-0700
TZOFFSETTO:-0800
TZNAME:PST
DTSTART:20221106T090000
END:STANDARD
BEGIN:DAYLIGHT
TZOFFSETFROM:-0800
TZOFFSETTO:-0700
TZNAME:PDT
DTSTART:20230312T100000
END:DAYLIGHT
BEGIN:STANDARD
TZOFFSETFROM:-0700
TZOFFSETTO:-0800
TZNAME:PST
DTSTART:20231105T090000
END:STANDARD
BEGIN:DAYLIGHT
TZOFFSETFROM:-0800
TZOFFSETTO:-0700
TZNAME:PDT
DTSTART:20240310T100000
END:DAYLIGHT
BEGIN:STANDARD
TZOFFSETFROM:-0700
TZOFFSETTO:-0800
TZNAME:PST
DTSTART:20241103T090000
END:STANDARD
END:VTIMEZONE
BEGIN:VEVENT
DTSTART;VALUE=DATE:20230325
DTEND;VALUE=DATE:20230326
DTSTAMP:20260420T024136
CREATED:20230303T152429Z
LAST-MODIFIED:20230303T152429Z
UID:10000248-1679702400-1679788799@centraloregonlocavore.org
SUMMARY:Spring Cleaning Event featuring Wallowa Valley Cleaning
DESCRIPTION:Wallowa Valley cleaning Products will be at Locavore talking about their bulk non toxic products and giving away samples all day!
URL:https://centraloregonlocavore.org/event/spring-cleaning-event-featuring-wallowa-valley-cleaning/
CATEGORIES:Marketplace Event
END:VEVENT
BEGIN:VEVENT
DTSTART;TZID=America/Los_Angeles:20230314T170000
DTEND;TZID=America/Los_Angeles:20230314T200000
DTSTAMP:20260420T024136
CREATED:20230303T160947Z
LAST-MODIFIED:20230303T160947Z
UID:10000249-1678813200-1678824000@centraloregonlocavore.org
SUMMARY:Meet Your Farmer dinner at Nome Italiano featuring DD Ranch
DESCRIPTION:Meet Your Farmer Dinners are a series of experiential dining experiences that pair the farmers and chefs of rotating local restaurants. The chosen chef prepares the meal using as many of the featured farmer’s products as possible\, supplemented by other local ingredients. Diners are treated to a presentation from the featured farmer about his or her farm and the products that were used during the lovingly prepared meal. This program builds farm to chef relationships. \n  \nThis is our first Meet Your Farmer dinner since 2020 and we could not be more excited to return with a bang at one of Bend’s finest new restaurants. This is a fundraiser for Central Oregon Locavore Non Profit. \n  \nMulti-course dinner by Chef Isaac Bonnaventure featuring DD Ranch and Deschutes Gourmet Mushrooms \nNome Italiano\, Bend \n5:00pm \n$110 Current Locavore Member / $120 Non Member \n  \nOptional Wine pairing by Richochet Wine Company additional $45 \n  \n\n\n\nMeet Your Farmer Wine Dinner at Nome Italiano featuring DD Ranch\nTuesday\, March 14\, 2023\n\nMenu \n1st Course \nBaked House made Ricotta\, Sorrel\, Blood orange gel\, Lion’s Mane Crunch \n(Wine Pairing: TBD) \n  \n2nd Course \nHome farm Foods Fresh egg yolk\, Lemon Preserved Yolk\, Dussel and Bone Marrow Raviolo. Beef Mushroom Pecorino Brodo \n(Wine Pairing: Eola Springs Vineyard Pinot Noir) \n  \n3rd Course \nMushroom Pesto Skin-on Porchetta\, Deschutes Gourmet Mushrooms\,Barley risotto\, Pickled Cauliflower mushroom \n(Wine Pairing: Holmes Gap Vineyard Pinot Noir) \n  \n4th Course \nBeef Short Rib\, Garlic chips\, Fontina Polenta cake\, Spring Onion\, Scallions Curls Oregon Truffle Gremolata\, Beef Jus \n(Wine Pairing: 2021 Tempranillo) 
URL:https://centraloregonlocavore.org/event/meet-your-farmer-dinner-at-nome-italiano-featuring-dd-ranch/
CATEGORIES:Meet Your Farmer Dinner Series
END:VEVENT
BEGIN:VEVENT
DTSTART;TZID=America/Los_Angeles:20230211T090000
DTEND;TZID=America/Los_Angeles:20230211T160000
DTSTAMP:20260420T024136
CREATED:20230208T173600Z
LAST-MODIFIED:20230208T173600Z
UID:10000243-1676106000-1676131200@centraloregonlocavore.org
SUMMARY:Changing Hands Workshop
DESCRIPTION:New Farmers & Ranchers: Will this be the year you find the land you need to start or grow your farm? \nLandholders & Retiring Farmers: How will you protect your land’s farm legacy and pass it on to the next generation of farmers & ranchers? \nRFC’S Changing Hands Workshops are back (and in person!) to help you take the next step in your plans! RFC’s annual Changing Hands Workshops are for farmers and ranchers who wish to access land\, and for landholders that want to transition their land or businesses to the next generation. \nWhat you can expect:\nEngaging\, active\, and problem-solving oriented workshops\nWhy succession plan?\nHow to market your business or land to other farmers\nLeasing & purchasing considerations\nAccess to leasing experts\nConnections with landholders and land seekers in your region\nExploring real-world leasing situations\, including your own\nAn opportunity to think long-term about your business and/or your land and its future \nCost: $65 (Scholarships and travel stipends are available)
URL:https://centraloregonlocavore.org/event/changing-hands-workshop/
ATTACH;FMTTYPE=image/jpeg:https://centraloregonlocavore.org/wp-content/uploads/2023/02/RFC-CH2022-Demo-01.jpg
END:VEVENT
BEGIN:VEVENT
DTSTART;VALUE=DATE:20230131
DTEND;VALUE=DATE:20230201
DTSTAMP:20260420T024136
CREATED:20220930T141218Z
LAST-MODIFIED:20220930T141218Z
UID:10000237-1675123200-1675209599@centraloregonlocavore.org
SUMMARY:Marketplace Closes at 3pm
DESCRIPTION:
URL:https://centraloregonlocavore.org/event/marketplace-closes-at-3pm-2/
CATEGORIES:Marketplace Event
END:VEVENT
BEGIN:VEVENT
DTSTART;TZID=America/Los_Angeles:20221223T080000
DTEND;TZID=America/Los_Angeles:20221223T170000
DTSTAMP:20260420T024136
CREATED:20220930T141119Z
LAST-MODIFIED:20220930T141119Z
UID:10000236-1671782400-1671814800@centraloregonlocavore.org
SUMMARY:Marketplace Closes at 3pm
DESCRIPTION:
URL:https://centraloregonlocavore.org/event/marketplace-closes-at-3pm/
CATEGORIES:Marketplace Event
END:VEVENT
BEGIN:VEVENT
DTSTART;TZID=America/Los_Angeles:20221210T100000
DTEND;TZID=America/Los_Angeles:20221210T160000
DTSTAMP:20260420T024136
CREATED:20220927T140541Z
LAST-MODIFIED:20220927T140541Z
UID:10000235-1670666400-1670688000@centraloregonlocavore.org
SUMMARY:Holiday Gift Faire - 2022
DESCRIPTION: 
URL:https://centraloregonlocavore.org/event/holiday-gift-faire-2022/
CATEGORIES:Celebrations & Parties,Community Events
END:VEVENT
BEGIN:VEVENT
DTSTART;VALUE=DATE:20221201
DTEND;VALUE=DATE:20221202
DTSTAMP:20260420T024136
CREATED:20220930T141756Z
LAST-MODIFIED:20220930T141756Z
UID:10000240-1669852800-1669939199@centraloregonlocavore.org
SUMMARY:We are Closed for New Years Day
DESCRIPTION:
URL:https://centraloregonlocavore.org/event/we-are-closed-for-new-years-day/
END:VEVENT
BEGIN:VEVENT
DTSTART;VALUE=DATE:20221125
DTEND;VALUE=DATE:20221126
DTSTAMP:20260420T024136
CREATED:20220930T141607Z
LAST-MODIFIED:20220930T141607Z
UID:10000239-1669334400-1669420799@centraloregonlocavore.org
SUMMARY:We are Closed for Black Friday
DESCRIPTION:
URL:https://centraloregonlocavore.org/event/marketplace-closed-2/
CATEGORIES:Marketplace Event
END:VEVENT
BEGIN:VEVENT
DTSTART;VALUE=DATE:20221124
DTEND;VALUE=DATE:20221125
DTSTAMP:20260420T024136
CREATED:20220930T141335Z
LAST-MODIFIED:20220930T141335Z
UID:10000238-1669248000-1669334399@centraloregonlocavore.org
SUMMARY:We are Closed for Thanksgiving
DESCRIPTION:
URL:https://centraloregonlocavore.org/event/marketplace-closed/
CATEGORIES:Marketplace Event
END:VEVENT
BEGIN:VEVENT
DTSTART;TZID=America/Los_Angeles:20221009T090000
DTEND;TZID=America/Los_Angeles:20221009T130000
DTSTAMP:20260420T024136
CREATED:20220930T142121Z
LAST-MODIFIED:20220930T142121Z
UID:10000241-1665306000-1665320400@centraloregonlocavore.org
SUMMARY:WWOLF at Casad Family Farms - Potato Gleaning for Donation to Neighbor Impact
DESCRIPTION:We will be gleaning potatoes to donate to Neighbor Impact in collaboration with HDFFA\nWhen: October 9th from 9:00am – 1:00pm\nWhere: Casad Family Farms Madras \nRegistration is Required \n  \n 
URL:https://centraloregonlocavore.org/event/wwolf-at-casad-family-farms-potato-gleaning-for-donation-to-neighbor-impact/
END:VEVENT
BEGIN:VEVENT
DTSTART;TZID=America/Los_Angeles:20220918T100000
DTEND;TZID=America/Los_Angeles:20220918T150000
DTSTAMP:20260420T024136
CREATED:20220821T142131Z
LAST-MODIFIED:20220821T142131Z
UID:10000234-1663495200-1663513200@centraloregonlocavore.org
SUMMARY:WWOLF @ DD Ranch
DESCRIPTION:Join us for a day of service at DD Ranch in Terrebonne on Sunday\, September 18. We will be helping as DD Ranch gets ready to open the pumpkin patch. There will be a variety of jobs for all ability levels.
URL:https://centraloregonlocavore.org/event/wwolf-dd-ranch-3/
CATEGORIES:WWOLF
END:VEVENT
BEGIN:VEVENT
DTSTART;VALUE=DATE:20220905
DTEND;VALUE=DATE:20220906
DTSTAMP:20260420T024136
CREATED:20220821T021440Z
LAST-MODIFIED:20220821T021440Z
UID:10000233-1662336000-1662422399@centraloregonlocavore.org
SUMMARY:We are closed for Labor Day!
DESCRIPTION:We will be closed on Labor Day.
URL:https://centraloregonlocavore.org/event/we-are-closed-for-labor-day/
CATEGORIES:Marketplace Event
END:VEVENT
BEGIN:VEVENT
DTSTART;TZID=America/Los_Angeles:20220813T090000
DTEND;TZID=America/Los_Angeles:20220813T130000
DTSTAMP:20260420T024136
CREATED:20220803T193939Z
LAST-MODIFIED:20220803T193939Z
UID:10000232-1660381200-1660395600@centraloregonlocavore.org
SUMMARY:WWOLF @ Lazy Z Ranch
DESCRIPTION:Join is at Lazy Z Ranch on Saturday\, August 13 for a morning of work on the ranch. We will be helping this family ranch tackle some mid-season projects.
URL:https://centraloregonlocavore.org/event/wwolf-lazy-z-ranch/
CATEGORIES:WWOLF
END:VEVENT
BEGIN:VEVENT
DTSTART;TZID=America/Los_Angeles:20220709T090000
DTEND;TZID=America/Los_Angeles:20220709T130000
DTSTAMP:20260420T024136
CREATED:20220628T155910Z
LAST-MODIFIED:20220628T155910Z
UID:10000231-1657357200-1657371600@centraloregonlocavore.org
SUMMARY:WWOLF @Deschutes Canyon Garlic
DESCRIPTION:Farming in one of the fertile canyons of northern Deschutes County\, Deschutes Canyon Garlic specializes in growing unique and flavorful varieties of certified organic seed garlic. We strive to produce seed garlic of exceptional quality\, meticulously grading our harvest to ensure our customers will grow beautiful\, vigorous garlic in their gardens and on their farms. The arid climate and sandy loam soils of Central Oregon’s high desert are uniquely suited to growing clean\, disease-free\, seed quality garlic. Our garlic farm is certified organic by Oregon Tilth\, and we are devoted to building fertility on the farm through the practices of cover cropping\, compost application and crop rotation. Growing garlic is our passion and we hope it’s yours too!
URL:https://centraloregonlocavore.org/event/wwolf-deschutes-canyon-garlic/
CATEGORIES:WWOLF
END:VEVENT
BEGIN:VEVENT
DTSTART;TZID=America/Los_Angeles:20220623T090000
DTEND;TZID=America/Los_Angeles:20220623T130000
DTSTAMP:20260420T024136
CREATED:20220628T155734Z
LAST-MODIFIED:20220628T155734Z
UID:10000230-1655974800-1655989200@centraloregonlocavore.org
SUMMARY:WWOLF @ Mahonia Gardens
DESCRIPTION:Mahonia Gardens is a one-acre market garden operating is Sisters\, Oregon\, dedicated to growing quality produce. We provide food to Sisters and Bend. Labor on the farm is done by hand\, using ergonomic handtools including broadforks\, the wheel hoe\, and digging forks to create and maintain beds. While we are not certified organic\, we use absolutely no harmful chemicals in our production – no pesticides\, herbicides\, chemical fertilizers or anything. 2022 will be our 10th season as a market farm. We grow around 40 vegetable crops\, as well as herbs and flowers. We sell primarily through our farm stand and through Central Oregon Locavore and Agricultural Connections.
URL:https://centraloregonlocavore.org/event/wwolf-mahonia-gardens/
CATEGORIES:WWOLF
END:VEVENT
BEGIN:VEVENT
DTSTART;TZID=America/Los_Angeles:20220529T090000
DTEND;TZID=America/Los_Angeles:20220529T130000
DTSTAMP:20260420T024136
CREATED:20220521T074422Z
LAST-MODIFIED:20220521T074422Z
UID:10000229-1653814800-1653829200@centraloregonlocavore.org
SUMMARY:WWOLF @ DD Ranch
DESCRIPTION:About DD Ranch: Located in beautiful Central Oregon\, DD Ranch raises 100% grass fed/finished beef and lamb\, heritage pork\, eggs from free-range hens\, and raw honey from happy bees. Much of our livestock are heritage breeds\, promoting genetic diversity. We promote a closed system. While we are not certified organic\, we do follow organic practices and have reseeded our pastures with OMRI-certified alfalfa. Our pastures are not sprayed\, nor do we use chemical fertilizers. We do not use hormones or antibiotic feed for our livestock. We will be working with the Savory Institute beginning in 2021 to employ regenerative pasture management practices to further our knowledge of sustainable agriculture. \nWe believe that happy and healthy stock makes for happy and healthy families. \nThe ranch provides access to the stunning countryside setting of the Smith Rock area. We offer memorable ranch adventures such as school field trips\, hunting\, private events\, weddings\, and more. We believe in promoting a strong local community and host annual events such as our Pumpkin Patch and the Great Harvest OCR 5K. \nWe hope you’ll join us.
URL:https://centraloregonlocavore.org/event/wwolf-dd-ranch-2/
CATEGORIES:WWOLF
END:VEVENT
BEGIN:VEVENT
DTSTART;TZID=America/Los_Angeles:20220523T130000
DTEND;TZID=America/Los_Angeles:20220523T160000
DTSTAMP:20260420T024136
CREATED:20220404T175117Z
LAST-MODIFIED:20220404T175117Z
UID:10000227-1653310800-1653321600@centraloregonlocavore.org
SUMMARY:Farm Kids @ Fields Farm
DESCRIPTION:
URL:https://centraloregonlocavore.org/event/farm-kids-fields-farm-2/
CATEGORIES:Farm Kids
END:VEVENT
BEGIN:VEVENT
DTSTART;TZID=America/Los_Angeles:20220521T100000
DTEND;TZID=America/Los_Angeles:20220521T150000
DTSTAMP:20260420T024136
CREATED:20220501T071248Z
LAST-MODIFIED:20220501T071248Z
UID:10000228-1653127200-1653145200@centraloregonlocavore.org
SUMMARY:WWOLF @ SunLife Farm & Ranch
DESCRIPTION:About SunLife Farm & Ranch: Balancing soil\, soul\, nature and culture\, SunLife is an incredible 160 acre property of mixed use land. Beautiful distant views of the Cascade mountain range and fertile canyon floors of a Crook County farming community provide a perfect setting. SunLife operations cover 55 irrigated acres of lavender and orchard grass production fields and our ranch portion of 105 acres is a naturally pristine terrain and home to our famous “BootahBees” apiary. With over 20 miles of various trail options\, the experience for High Desert Food Trail visitors is near limitless.
URL:https://centraloregonlocavore.org/event/wwolf-sunlife-farm-ranch/
CATEGORIES:WWOLF
END:VEVENT
BEGIN:VEVENT
DTSTART;TZID=America/Los_Angeles:20220520T090000
DTEND;TZID=America/Los_Angeles:20220520T120000
DTSTAMP:20260420T024136
CREATED:20220404T175019Z
LAST-MODIFIED:20220404T175019Z
UID:10000226-1653037200-1653048000@centraloregonlocavore.org
SUMMARY:Farm Kids @ Fields Farm
DESCRIPTION:
URL:https://centraloregonlocavore.org/event/farm-kids-fields-farm/
CATEGORIES:Farm Kids
END:VEVENT
BEGIN:VEVENT
DTSTART;TZID=America/Los_Angeles:20220512T130000
DTEND;TZID=America/Los_Angeles:20220512T150000
DTSTAMP:20260420T024136
CREATED:20210609T100440Z
LAST-MODIFIED:20210609T100440Z
UID:10000208-1652360400-1652367600@centraloregonlocavore.org
SUMMARY:Mommy & Me Breastfeeding Support Group
DESCRIPTION:The Mommy & Me Breastfeeding Support Group meets weekly in the Central Oregon Locavore event space on Thursdays from 1:00pm – 3:00pm. Lactation consultants on hand from St. Charles and WIC to weigh babies and answer questions. All are welcome\, including partners and siblings\, no matter how you are feeding your baby.
URL:https://centraloregonlocavore.org/event/mommy-me-breastfeeding-support-group/2022-05-12/
ATTACH;FMTTYPE=image/jpeg:https://centraloregonlocavore.org/wp-content/uploads/2021/03/mommy-and-me.jpg
END:VEVENT
BEGIN:VEVENT
DTSTART;TZID=America/Los_Angeles:20220505T130000
DTEND;TZID=America/Los_Angeles:20220505T150000
DTSTAMP:20260420T024136
CREATED:20210609T100440Z
LAST-MODIFIED:20210609T100440Z
UID:10000207-1651755600-1651762800@centraloregonlocavore.org
SUMMARY:Mommy & Me Breastfeeding Support Group
DESCRIPTION:The Mommy & Me Breastfeeding Support Group meets weekly in the Central Oregon Locavore event space on Thursdays from 1:00pm – 3:00pm. Lactation consultants on hand from St. Charles and WIC to weigh babies and answer questions. All are welcome\, including partners and siblings\, no matter how you are feeding your baby.
URL:https://centraloregonlocavore.org/event/mommy-me-breastfeeding-support-group/2022-05-05/
ATTACH;FMTTYPE=image/jpeg:https://centraloregonlocavore.org/wp-content/uploads/2021/03/mommy-and-me.jpg
END:VEVENT
BEGIN:VEVENT
DTSTART;TZID=America/Los_Angeles:20220430T090000
DTEND;TZID=America/Los_Angeles:20220430T130000
DTSTAMP:20260420T024136
CREATED:20220308T212824Z
LAST-MODIFIED:20220308T212824Z
UID:10000224-1651309200-1651323600@centraloregonlocavore.org
SUMMARY:WWOLF @ Fibonacci Farm
DESCRIPTION:We will be helping farmers Aaron and Lauren plant\, pull weeds and more at this lovely farm site. Find out more about the event and register HERE.
URL:https://centraloregonlocavore.org/event/wwolf-fibonacci-farm/
CATEGORIES:WWOLF
END:VEVENT
BEGIN:VEVENT
DTSTART;TZID=America/Los_Angeles:20220428T130000
DTEND;TZID=America/Los_Angeles:20220428T150000
DTSTAMP:20260420T024137
CREATED:20210609T100440Z
LAST-MODIFIED:20210609T100440Z
UID:10000206-1651150800-1651158000@centraloregonlocavore.org
SUMMARY:Mommy & Me Breastfeeding Support Group
DESCRIPTION:The Mommy & Me Breastfeeding Support Group meets weekly in the Central Oregon Locavore event space on Thursdays from 1:00pm – 3:00pm. Lactation consultants on hand from St. Charles and WIC to weigh babies and answer questions. All are welcome\, including partners and siblings\, no matter how you are feeding your baby.
URL:https://centraloregonlocavore.org/event/mommy-me-breastfeeding-support-group/2022-04-28/
ATTACH;FMTTYPE=image/jpeg:https://centraloregonlocavore.org/wp-content/uploads/2021/03/mommy-and-me.jpg
END:VEVENT
BEGIN:VEVENT
DTSTART;TZID=America/Los_Angeles:20220421T130000
DTEND;TZID=America/Los_Angeles:20220421T150000
DTSTAMP:20260420T024137
CREATED:20210609T100440Z
LAST-MODIFIED:20210609T100440Z
UID:10000205-1650546000-1650553200@centraloregonlocavore.org
SUMMARY:Mommy & Me Breastfeeding Support Group
DESCRIPTION:The Mommy & Me Breastfeeding Support Group meets weekly in the Central Oregon Locavore event space on Thursdays from 1:00pm – 3:00pm. Lactation consultants on hand from St. Charles and WIC to weigh babies and answer questions. All are welcome\, including partners and siblings\, no matter how you are feeding your baby.
URL:https://centraloregonlocavore.org/event/mommy-me-breastfeeding-support-group/2022-04-21/
ATTACH;FMTTYPE=image/jpeg:https://centraloregonlocavore.org/wp-content/uploads/2021/03/mommy-and-me.jpg
END:VEVENT
BEGIN:VEVENT
DTSTART;TZID=America/Los_Angeles:20220414T130000
DTEND;TZID=America/Los_Angeles:20220414T150000
DTSTAMP:20260420T024137
CREATED:20210609T100440Z
LAST-MODIFIED:20210609T100440Z
UID:10000204-1649941200-1649948400@centraloregonlocavore.org
SUMMARY:Mommy & Me Breastfeeding Support Group
DESCRIPTION:The Mommy & Me Breastfeeding Support Group meets weekly in the Central Oregon Locavore event space on Thursdays from 1:00pm – 3:00pm. Lactation consultants on hand from St. Charles and WIC to weigh babies and answer questions. All are welcome\, including partners and siblings\, no matter how you are feeding your baby.
URL:https://centraloregonlocavore.org/event/mommy-me-breastfeeding-support-group/2022-04-14/
ATTACH;FMTTYPE=image/jpeg:https://centraloregonlocavore.org/wp-content/uploads/2021/03/mommy-and-me.jpg
END:VEVENT
BEGIN:VEVENT
DTSTART;TZID=America/Los_Angeles:20220409T090000
DTEND;TZID=America/Los_Angeles:20220409T130000
DTSTAMP:20260420T024137
CREATED:20220308T212351Z
LAST-MODIFIED:20220308T212351Z
UID:10000223-1649494800-1649509200@centraloregonlocavore.org
SUMMARY:WWOLF @ Fields Farm
DESCRIPTION:Jim and Debbie Fields have been growing organically on the east side of Bend for over 30 years. Let’s help them start this season strong! To find out more and register\, click HERE.
URL:https://centraloregonlocavore.org/event/wwolf-fields-farm/
CATEGORIES:WWOLF
END:VEVENT
BEGIN:VEVENT
DTSTART;TZID=America/Los_Angeles:20220407T130000
DTEND;TZID=America/Los_Angeles:20220407T150000
DTSTAMP:20260420T024137
CREATED:20210609T100440Z
LAST-MODIFIED:20210609T100440Z
UID:10000203-1649336400-1649343600@centraloregonlocavore.org
SUMMARY:Mommy & Me Breastfeeding Support Group
DESCRIPTION:The Mommy & Me Breastfeeding Support Group meets weekly in the Central Oregon Locavore event space on Thursdays from 1:00pm – 3:00pm. Lactation consultants on hand from St. Charles and WIC to weigh babies and answer questions. All are welcome\, including partners and siblings\, no matter how you are feeding your baby.
URL:https://centraloregonlocavore.org/event/mommy-me-breastfeeding-support-group/2022-04-07/
ATTACH;FMTTYPE=image/jpeg:https://centraloregonlocavore.org/wp-content/uploads/2021/03/mommy-and-me.jpg
END:VEVENT
BEGIN:VEVENT
DTSTART;TZID=America/Los_Angeles:20220331T130000
DTEND;TZID=America/Los_Angeles:20220331T150000
DTSTAMP:20260420T024137
CREATED:20210609T100440Z
LAST-MODIFIED:20210609T100440Z
UID:10000202-1648731600-1648738800@centraloregonlocavore.org
SUMMARY:Mommy & Me Breastfeeding Support Group
DESCRIPTION:The Mommy & Me Breastfeeding Support Group meets weekly in the Central Oregon Locavore event space on Thursdays from 1:00pm – 3:00pm. Lactation consultants on hand from St. Charles and WIC to weigh babies and answer questions. All are welcome\, including partners and siblings\, no matter how you are feeding your baby.
URL:https://centraloregonlocavore.org/event/mommy-me-breastfeeding-support-group/2022-03-31/
ATTACH;FMTTYPE=image/jpeg:https://centraloregonlocavore.org/wp-content/uploads/2021/03/mommy-and-me.jpg
END:VEVENT
BEGIN:VEVENT
DTSTART;TZID=America/Los_Angeles:20220327T130000
DTEND;TZID=America/Los_Angeles:20220327T143000
DTSTAMP:20260420T024137
CREATED:20220308T213651Z
LAST-MODIFIED:20220308T213651Z
UID:10000225-1648386000-1648391400@centraloregonlocavore.org
SUMMARY:Dumplings with Dump City
DESCRIPTION:In this class\, Dan from Dump City Dumplings will teach us how to incorporate seasonal veggies into tasty steamed dumplings. Dan will show us how to cook and season fillings\, as well as prepare a dough. He will also share how to form and steam delicious buns. Join us for this mouth watering class! \nFor years\, Dump City Dumplings has been serving up tasty Chinese style steamed bun dumplings inspired by cultures all over the world. They can be found at their restaurant in the Old Mill or at their food cart. They were recently featured on the Food Network’s hit show Diner’s\, Drive-ins\, & Dives. Find out more about Dump City at their website.
URL:https://centraloregonlocavore.org/event/dumplings-with-dump-city/
CATEGORIES:Locavore Food School
END:VEVENT
BEGIN:VEVENT
DTSTART;TZID=America/Los_Angeles:20220324T130000
DTEND;TZID=America/Los_Angeles:20220324T150000
DTSTAMP:20260420T024137
CREATED:20210609T100440Z
LAST-MODIFIED:20210609T100440Z
UID:10000201-1648126800-1648134000@centraloregonlocavore.org
SUMMARY:Mommy & Me Breastfeeding Support Group
DESCRIPTION:The Mommy & Me Breastfeeding Support Group meets weekly in the Central Oregon Locavore event space on Thursdays from 1:00pm – 3:00pm. Lactation consultants on hand from St. Charles and WIC to weigh babies and answer questions. All are welcome\, including partners and siblings\, no matter how you are feeding your baby.
URL:https://centraloregonlocavore.org/event/mommy-me-breastfeeding-support-group/2022-03-24/
ATTACH;FMTTYPE=image/jpeg:https://centraloregonlocavore.org/wp-content/uploads/2021/03/mommy-and-me.jpg
END:VEVENT
END:VCALENDAR