BEGIN:VCALENDAR
VERSION:2.0
PRODID:-//Central Oregon Locavore - ECPv6.15.20//NONSGML v1.0//EN
CALSCALE:GREGORIAN
METHOD:PUBLISH
X-ORIGINAL-URL:https://centraloregonlocavore.org
X-WR-CALDESC:Events for Central Oregon Locavore
REFRESH-INTERVAL;VALUE=DURATION:PT1H
X-Robots-Tag:noindex
X-PUBLISHED-TTL:PT1H
BEGIN:VTIMEZONE
TZID:America/Los_Angeles
BEGIN:DAYLIGHT
TZOFFSETFROM:-0800
TZOFFSETTO:-0700
TZNAME:PDT
DTSTART:20200308T100000
END:DAYLIGHT
BEGIN:STANDARD
TZOFFSETFROM:-0700
TZOFFSETTO:-0800
TZNAME:PST
DTSTART:20201101T090000
END:STANDARD
BEGIN:DAYLIGHT
TZOFFSETFROM:-0800
TZOFFSETTO:-0700
TZNAME:PDT
DTSTART:20210314T100000
END:DAYLIGHT
BEGIN:STANDARD
TZOFFSETFROM:-0700
TZOFFSETTO:-0800
TZNAME:PST
DTSTART:20211107T090000
END:STANDARD
BEGIN:DAYLIGHT
TZOFFSETFROM:-0800
TZOFFSETTO:-0700
TZNAME:PDT
DTSTART:20220313T100000
END:DAYLIGHT
BEGIN:STANDARD
TZOFFSETFROM:-0700
TZOFFSETTO:-0800
TZNAME:PST
DTSTART:20221106T090000
END:STANDARD
BEGIN:DAYLIGHT
TZOFFSETFROM:-0800
TZOFFSETTO:-0700
TZNAME:PDT
DTSTART:20230312T100000
END:DAYLIGHT
BEGIN:STANDARD
TZOFFSETFROM:-0700
TZOFFSETTO:-0800
TZNAME:PST
DTSTART:20231105T090000
END:STANDARD
END:VTIMEZONE
BEGIN:VTIMEZONE
TZID:UTC
BEGIN:STANDARD
TZOFFSETFROM:+0000
TZOFFSETTO:+0000
TZNAME:UTC
DTSTART:20200101T000000
END:STANDARD
END:VTIMEZONE
BEGIN:VEVENT
DTSTART;TZID=America/Los_Angeles:20220414T130000
DTEND;TZID=America/Los_Angeles:20220414T150000
DTSTAMP:20260420T051802
CREATED:20210609T100440Z
LAST-MODIFIED:20210609T100440Z
UID:10000204-1649941200-1649948400@centraloregonlocavore.org
SUMMARY:Mommy & Me Breastfeeding Support Group
DESCRIPTION:The Mommy & Me Breastfeeding Support Group meets weekly in the Central Oregon Locavore event space on Thursdays from 1:00pm – 3:00pm. Lactation consultants on hand from St. Charles and WIC to weigh babies and answer questions. All are welcome\, including partners and siblings\, no matter how you are feeding your baby.
URL:https://centraloregonlocavore.org/event/mommy-me-breastfeeding-support-group/2022-04-14/
ATTACH;FMTTYPE=image/jpeg:https://centraloregonlocavore.org/wp-content/uploads/2021/03/mommy-and-me.jpg
END:VEVENT
BEGIN:VEVENT
DTSTART;TZID=America/Los_Angeles:20220409T090000
DTEND;TZID=America/Los_Angeles:20220409T130000
DTSTAMP:20260420T051803
CREATED:20220308T212351Z
LAST-MODIFIED:20220308T212351Z
UID:10000223-1649494800-1649509200@centraloregonlocavore.org
SUMMARY:WWOLF @ Fields Farm
DESCRIPTION:Jim and Debbie Fields have been growing organically on the east side of Bend for over 30 years. Let’s help them start this season strong! To find out more and register\, click HERE.
URL:https://centraloregonlocavore.org/event/wwolf-fields-farm/
CATEGORIES:WWOLF
END:VEVENT
BEGIN:VEVENT
DTSTART;TZID=America/Los_Angeles:20220407T130000
DTEND;TZID=America/Los_Angeles:20220407T150000
DTSTAMP:20260420T051803
CREATED:20210609T100440Z
LAST-MODIFIED:20210609T100440Z
UID:10000203-1649336400-1649343600@centraloregonlocavore.org
SUMMARY:Mommy & Me Breastfeeding Support Group
DESCRIPTION:The Mommy & Me Breastfeeding Support Group meets weekly in the Central Oregon Locavore event space on Thursdays from 1:00pm – 3:00pm. Lactation consultants on hand from St. Charles and WIC to weigh babies and answer questions. All are welcome\, including partners and siblings\, no matter how you are feeding your baby.
URL:https://centraloregonlocavore.org/event/mommy-me-breastfeeding-support-group/2022-04-07/
ATTACH;FMTTYPE=image/jpeg:https://centraloregonlocavore.org/wp-content/uploads/2021/03/mommy-and-me.jpg
END:VEVENT
BEGIN:VEVENT
DTSTART;TZID=America/Los_Angeles:20220331T130000
DTEND;TZID=America/Los_Angeles:20220331T150000
DTSTAMP:20260420T051803
CREATED:20210609T100440Z
LAST-MODIFIED:20210609T100440Z
UID:10000202-1648731600-1648738800@centraloregonlocavore.org
SUMMARY:Mommy & Me Breastfeeding Support Group
DESCRIPTION:The Mommy & Me Breastfeeding Support Group meets weekly in the Central Oregon Locavore event space on Thursdays from 1:00pm – 3:00pm. Lactation consultants on hand from St. Charles and WIC to weigh babies and answer questions. All are welcome\, including partners and siblings\, no matter how you are feeding your baby.
URL:https://centraloregonlocavore.org/event/mommy-me-breastfeeding-support-group/2022-03-31/
ATTACH;FMTTYPE=image/jpeg:https://centraloregonlocavore.org/wp-content/uploads/2021/03/mommy-and-me.jpg
END:VEVENT
BEGIN:VEVENT
DTSTART;TZID=America/Los_Angeles:20220327T130000
DTEND;TZID=America/Los_Angeles:20220327T143000
DTSTAMP:20260420T051803
CREATED:20220308T213651Z
LAST-MODIFIED:20220308T213651Z
UID:10000225-1648386000-1648391400@centraloregonlocavore.org
SUMMARY:Dumplings with Dump City
DESCRIPTION:In this class\, Dan from Dump City Dumplings will teach us how to incorporate seasonal veggies into tasty steamed dumplings. Dan will show us how to cook and season fillings\, as well as prepare a dough. He will also share how to form and steam delicious buns. Join us for this mouth watering class! \nFor years\, Dump City Dumplings has been serving up tasty Chinese style steamed bun dumplings inspired by cultures all over the world. They can be found at their restaurant in the Old Mill or at their food cart. They were recently featured on the Food Network’s hit show Diner’s\, Drive-ins\, & Dives. Find out more about Dump City at their website.
URL:https://centraloregonlocavore.org/event/dumplings-with-dump-city/
CATEGORIES:Locavore Food School
END:VEVENT
BEGIN:VEVENT
DTSTART;TZID=America/Los_Angeles:20220324T130000
DTEND;TZID=America/Los_Angeles:20220324T150000
DTSTAMP:20260420T051803
CREATED:20210609T100440Z
LAST-MODIFIED:20210609T100440Z
UID:10000201-1648126800-1648134000@centraloregonlocavore.org
SUMMARY:Mommy & Me Breastfeeding Support Group
DESCRIPTION:The Mommy & Me Breastfeeding Support Group meets weekly in the Central Oregon Locavore event space on Thursdays from 1:00pm – 3:00pm. Lactation consultants on hand from St. Charles and WIC to weigh babies and answer questions. All are welcome\, including partners and siblings\, no matter how you are feeding your baby.
URL:https://centraloregonlocavore.org/event/mommy-me-breastfeeding-support-group/2022-03-24/
ATTACH;FMTTYPE=image/jpeg:https://centraloregonlocavore.org/wp-content/uploads/2021/03/mommy-and-me.jpg
END:VEVENT
BEGIN:VEVENT
DTSTART;TZID=America/Los_Angeles:20220317T130000
DTEND;TZID=America/Los_Angeles:20220317T150000
DTSTAMP:20260420T051803
CREATED:20210609T100440Z
LAST-MODIFIED:20210609T100440Z
UID:10000200-1647522000-1647529200@centraloregonlocavore.org
SUMMARY:Mommy & Me Breastfeeding Support Group
DESCRIPTION:The Mommy & Me Breastfeeding Support Group meets weekly in the Central Oregon Locavore event space on Thursdays from 1:00pm – 3:00pm. Lactation consultants on hand from St. Charles and WIC to weigh babies and answer questions. All are welcome\, including partners and siblings\, no matter how you are feeding your baby.
URL:https://centraloregonlocavore.org/event/mommy-me-breastfeeding-support-group/2022-03-17/
ATTACH;FMTTYPE=image/jpeg:https://centraloregonlocavore.org/wp-content/uploads/2021/03/mommy-and-me.jpg
END:VEVENT
BEGIN:VEVENT
DTSTART;TZID=America/Los_Angeles:20220310T130000
DTEND;TZID=America/Los_Angeles:20220310T150000
DTSTAMP:20260420T051803
CREATED:20210609T100440Z
LAST-MODIFIED:20210609T100440Z
UID:10000199-1646917200-1646924400@centraloregonlocavore.org
SUMMARY:Mommy & Me Breastfeeding Support Group
DESCRIPTION:The Mommy & Me Breastfeeding Support Group meets weekly in the Central Oregon Locavore event space on Thursdays from 1:00pm – 3:00pm. Lactation consultants on hand from St. Charles and WIC to weigh babies and answer questions. All are welcome\, including partners and siblings\, no matter how you are feeding your baby.
URL:https://centraloregonlocavore.org/event/mommy-me-breastfeeding-support-group/2022-03-10/
ATTACH;FMTTYPE=image/jpeg:https://centraloregonlocavore.org/wp-content/uploads/2021/03/mommy-and-me.jpg
END:VEVENT
BEGIN:VEVENT
DTSTART;TZID=America/Los_Angeles:20220303T130000
DTEND;TZID=America/Los_Angeles:20220303T150000
DTSTAMP:20260420T051803
CREATED:20210609T100440Z
LAST-MODIFIED:20210609T100440Z
UID:10000198-1646312400-1646319600@centraloregonlocavore.org
SUMMARY:Mommy & Me Breastfeeding Support Group
DESCRIPTION:The Mommy & Me Breastfeeding Support Group meets weekly in the Central Oregon Locavore event space on Thursdays from 1:00pm – 3:00pm. Lactation consultants on hand from St. Charles and WIC to weigh babies and answer questions. All are welcome\, including partners and siblings\, no matter how you are feeding your baby.
URL:https://centraloregonlocavore.org/event/mommy-me-breastfeeding-support-group/2022-03-03/
ATTACH;FMTTYPE=image/jpeg:https://centraloregonlocavore.org/wp-content/uploads/2021/03/mommy-and-me.jpg
END:VEVENT
BEGIN:VEVENT
DTSTART;TZID=America/Los_Angeles:20220226T130000
DTEND;TZID=America/Los_Angeles:20220226T143000
DTSTAMP:20260420T051803
CREATED:20220104T051058Z
LAST-MODIFIED:20220104T051058Z
UID:10000222-1645880400-1645885800@centraloregonlocavore.org
SUMMARY:Beginning Beekeeping with Ron Lane
DESCRIPTION:In this class\, experienced Central Oregon beekeeper Ron Lane will help beginning beekeepers and assist those who started keeping bees last year. We will explore questions and concerns common to beginners. \nTopics will include: \n\nCan you keep bees in Central Oregon\nWhat is the cost of getting started\nWhat equipment is needed for a new beekeeper\nWhere should hives be located\nHow much time and upkeep is required to successfully keep bees\nHow much honey can be expected\nWhat to expect in the second year of beekeeping \n\nHive equipment will be available for inspection and we will discuss some of the various types of hives available. We will also answer questions regarding where and when to get your bees. \nPlease bring your questions so we can help prepare you to get started this season.
URL:https://centraloregonlocavore.org/event/beginning-beekeeping-with-ron-lane/
CATEGORIES:Locavore Food School
END:VEVENT
BEGIN:VEVENT
DTSTART;TZID=America/Los_Angeles:20220224T130000
DTEND;TZID=America/Los_Angeles:20220224T150000
DTSTAMP:20260420T051803
CREATED:20210609T100440Z
LAST-MODIFIED:20210609T100440Z
UID:10000197-1645707600-1645714800@centraloregonlocavore.org
SUMMARY:Mommy & Me Breastfeeding Support Group
DESCRIPTION:The Mommy & Me Breastfeeding Support Group meets weekly in the Central Oregon Locavore event space on Thursdays from 1:00pm – 3:00pm. Lactation consultants on hand from St. Charles and WIC to weigh babies and answer questions. All are welcome\, including partners and siblings\, no matter how you are feeding your baby.
URL:https://centraloregonlocavore.org/event/mommy-me-breastfeeding-support-group/2022-02-24/
ATTACH;FMTTYPE=image/jpeg:https://centraloregonlocavore.org/wp-content/uploads/2021/03/mommy-and-me.jpg
END:VEVENT
BEGIN:VEVENT
DTSTART;TZID=America/Los_Angeles:20220217T130000
DTEND;TZID=America/Los_Angeles:20220217T150000
DTSTAMP:20260420T051803
CREATED:20210609T100440Z
LAST-MODIFIED:20210609T100440Z
UID:10000196-1645102800-1645110000@centraloregonlocavore.org
SUMMARY:Mommy & Me Breastfeeding Support Group
DESCRIPTION:The Mommy & Me Breastfeeding Support Group meets weekly in the Central Oregon Locavore event space on Thursdays from 1:00pm – 3:00pm. Lactation consultants on hand from St. Charles and WIC to weigh babies and answer questions. All are welcome\, including partners and siblings\, no matter how you are feeding your baby.
URL:https://centraloregonlocavore.org/event/mommy-me-breastfeeding-support-group/2022-02-17/
ATTACH;FMTTYPE=image/jpeg:https://centraloregonlocavore.org/wp-content/uploads/2021/03/mommy-and-me.jpg
END:VEVENT
BEGIN:VEVENT
DTSTART;TZID=America/Los_Angeles:20220210T130000
DTEND;TZID=America/Los_Angeles:20220210T150000
DTSTAMP:20260420T051803
CREATED:20210609T100440Z
LAST-MODIFIED:20210609T100440Z
UID:10000195-1644498000-1644505200@centraloregonlocavore.org
SUMMARY:Mommy & Me Breastfeeding Support Group
DESCRIPTION:The Mommy & Me Breastfeeding Support Group meets weekly in the Central Oregon Locavore event space on Thursdays from 1:00pm – 3:00pm. Lactation consultants on hand from St. Charles and WIC to weigh babies and answer questions. All are welcome\, including partners and siblings\, no matter how you are feeding your baby.
URL:https://centraloregonlocavore.org/event/mommy-me-breastfeeding-support-group/2022-02-10/
ATTACH;FMTTYPE=image/jpeg:https://centraloregonlocavore.org/wp-content/uploads/2021/03/mommy-and-me.jpg
END:VEVENT
BEGIN:VEVENT
DTSTART;TZID=America/Los_Angeles:20220203T130000
DTEND;TZID=America/Los_Angeles:20220203T150000
DTSTAMP:20260420T051803
CREATED:20210609T100440Z
LAST-MODIFIED:20210609T100440Z
UID:10000194-1643893200-1643900400@centraloregonlocavore.org
SUMMARY:Mommy & Me Breastfeeding Support Group
DESCRIPTION:The Mommy & Me Breastfeeding Support Group meets weekly in the Central Oregon Locavore event space on Thursdays from 1:00pm – 3:00pm. Lactation consultants on hand from St. Charles and WIC to weigh babies and answer questions. All are welcome\, including partners and siblings\, no matter how you are feeding your baby.
URL:https://centraloregonlocavore.org/event/mommy-me-breastfeeding-support-group/2022-02-03/
ATTACH;FMTTYPE=image/jpeg:https://centraloregonlocavore.org/wp-content/uploads/2021/03/mommy-and-me.jpg
END:VEVENT
BEGIN:VEVENT
DTSTART;TZID=America/Los_Angeles:20220127T130000
DTEND;TZID=America/Los_Angeles:20220127T150000
DTSTAMP:20260420T051803
CREATED:20210609T100440Z
LAST-MODIFIED:20210609T100440Z
UID:10000193-1643288400-1643295600@centraloregonlocavore.org
SUMMARY:Mommy & Me Breastfeeding Support Group
DESCRIPTION:The Mommy & Me Breastfeeding Support Group meets weekly in the Central Oregon Locavore event space on Thursdays from 1:00pm – 3:00pm. Lactation consultants on hand from St. Charles and WIC to weigh babies and answer questions. All are welcome\, including partners and siblings\, no matter how you are feeding your baby.
URL:https://centraloregonlocavore.org/event/mommy-me-breastfeeding-support-group/2022-01-27/
ATTACH;FMTTYPE=image/jpeg:https://centraloregonlocavore.org/wp-content/uploads/2021/03/mommy-and-me.jpg
END:VEVENT
BEGIN:VEVENT
DTSTART;TZID=America/Los_Angeles:20220120T130000
DTEND;TZID=America/Los_Angeles:20220120T150000
DTSTAMP:20260420T051803
CREATED:20210609T100440Z
LAST-MODIFIED:20210609T100440Z
UID:10000192-1642683600-1642690800@centraloregonlocavore.org
SUMMARY:Mommy & Me Breastfeeding Support Group
DESCRIPTION:The Mommy & Me Breastfeeding Support Group meets weekly in the Central Oregon Locavore event space on Thursdays from 1:00pm – 3:00pm. Lactation consultants on hand from St. Charles and WIC to weigh babies and answer questions. All are welcome\, including partners and siblings\, no matter how you are feeding your baby.
URL:https://centraloregonlocavore.org/event/mommy-me-breastfeeding-support-group/2022-01-20/
ATTACH;FMTTYPE=image/jpeg:https://centraloregonlocavore.org/wp-content/uploads/2021/03/mommy-and-me.jpg
END:VEVENT
BEGIN:VEVENT
DTSTART;TZID=America/Los_Angeles:20220113T130000
DTEND;TZID=America/Los_Angeles:20220113T150000
DTSTAMP:20260420T051803
CREATED:20210609T100440Z
LAST-MODIFIED:20210609T100440Z
UID:10000191-1642078800-1642086000@centraloregonlocavore.org
SUMMARY:Mommy & Me Breastfeeding Support Group
DESCRIPTION:The Mommy & Me Breastfeeding Support Group meets weekly in the Central Oregon Locavore event space on Thursdays from 1:00pm – 3:00pm. Lactation consultants on hand from St. Charles and WIC to weigh babies and answer questions. All are welcome\, including partners and siblings\, no matter how you are feeding your baby.
URL:https://centraloregonlocavore.org/event/mommy-me-breastfeeding-support-group/2022-01-13/
ATTACH;FMTTYPE=image/jpeg:https://centraloregonlocavore.org/wp-content/uploads/2021/03/mommy-and-me.jpg
END:VEVENT
BEGIN:VEVENT
DTSTART;TZID=America/Los_Angeles:20220106T130000
DTEND;TZID=America/Los_Angeles:20220106T150000
DTSTAMP:20260420T051803
CREATED:20210609T100440Z
LAST-MODIFIED:20210609T100440Z
UID:10000190-1641474000-1641481200@centraloregonlocavore.org
SUMMARY:Mommy & Me Breastfeeding Support Group
DESCRIPTION:The Mommy & Me Breastfeeding Support Group meets weekly in the Central Oregon Locavore event space on Thursdays from 1:00pm – 3:00pm. Lactation consultants on hand from St. Charles and WIC to weigh babies and answer questions. All are welcome\, including partners and siblings\, no matter how you are feeding your baby.
URL:https://centraloregonlocavore.org/event/mommy-me-breastfeeding-support-group/2022-01-06/
ATTACH;FMTTYPE=image/jpeg:https://centraloregonlocavore.org/wp-content/uploads/2021/03/mommy-and-me.jpg
END:VEVENT
BEGIN:VEVENT
DTSTART;TZID=America/Los_Angeles:20211230T130000
DTEND;TZID=America/Los_Angeles:20211230T150000
DTSTAMP:20260420T051803
CREATED:20210609T100440Z
LAST-MODIFIED:20210609T100440Z
UID:10000189-1640869200-1640876400@centraloregonlocavore.org
SUMMARY:Mommy & Me Breastfeeding Support Group
DESCRIPTION:The Mommy & Me Breastfeeding Support Group meets weekly in the Central Oregon Locavore event space on Thursdays from 1:00pm – 3:00pm. Lactation consultants on hand from St. Charles and WIC to weigh babies and answer questions. All are welcome\, including partners and siblings\, no matter how you are feeding your baby.
URL:https://centraloregonlocavore.org/event/mommy-me-breastfeeding-support-group/2021-12-30/
ATTACH;FMTTYPE=image/jpeg:https://centraloregonlocavore.org/wp-content/uploads/2021/03/mommy-and-me.jpg
END:VEVENT
BEGIN:VEVENT
DTSTART;TZID=America/Los_Angeles:20211223T130000
DTEND;TZID=America/Los_Angeles:20211223T150000
DTSTAMP:20260420T051803
CREATED:20210609T100440Z
LAST-MODIFIED:20210609T100440Z
UID:10000188-1640264400-1640271600@centraloregonlocavore.org
SUMMARY:Mommy & Me Breastfeeding Support Group
DESCRIPTION:The Mommy & Me Breastfeeding Support Group meets weekly in the Central Oregon Locavore event space on Thursdays from 1:00pm – 3:00pm. Lactation consultants on hand from St. Charles and WIC to weigh babies and answer questions. All are welcome\, including partners and siblings\, no matter how you are feeding your baby.
URL:https://centraloregonlocavore.org/event/mommy-me-breastfeeding-support-group/2021-12-23/
ATTACH;FMTTYPE=image/jpeg:https://centraloregonlocavore.org/wp-content/uploads/2021/03/mommy-and-me.jpg
END:VEVENT
BEGIN:VEVENT
DTSTART;TZID=America/Los_Angeles:20211216T130000
DTEND;TZID=America/Los_Angeles:20211216T150000
DTSTAMP:20260420T051803
CREATED:20210609T100440Z
LAST-MODIFIED:20210609T100440Z
UID:10000187-1639659600-1639666800@centraloregonlocavore.org
SUMMARY:Mommy & Me Breastfeeding Support Group
DESCRIPTION:The Mommy & Me Breastfeeding Support Group meets weekly in the Central Oregon Locavore event space on Thursdays from 1:00pm – 3:00pm. Lactation consultants on hand from St. Charles and WIC to weigh babies and answer questions. All are welcome\, including partners and siblings\, no matter how you are feeding your baby.
URL:https://centraloregonlocavore.org/event/mommy-me-breastfeeding-support-group/2021-12-16/
ATTACH;FMTTYPE=image/jpeg:https://centraloregonlocavore.org/wp-content/uploads/2021/03/mommy-and-me.jpg
END:VEVENT
BEGIN:VEVENT
DTSTART;TZID=UTC:20211211T100000
DTEND;TZID=UTC:20211211T160000
DTSTAMP:20260420T051803
CREATED:20211127T042545Z
LAST-MODIFIED:20211127T042545Z
UID:10000221-1639216800-1639238400@centraloregonlocavore.org
SUMMARY:12th Annual Holiday Gift Faire
DESCRIPTION:The Annual Locavore Holiday Gift Faire is one of the best ways to find perfectly unique gifts for your special people made right here in Central Oregon. Will you buy them art\, local honey or vinegar\, hats\, a new painting or a beautiful piece of jewelry? You don’t have to decide now—browsing the merry tables of these artists\, farmers\, and crafters is half the joy of this top notch gift faire.
URL:https://centraloregonlocavore.org/event/12th-annual-holiday-gift-faire/
CATEGORIES:Community Events
END:VEVENT
BEGIN:VEVENT
DTSTART;TZID=America/Los_Angeles:20211209T130000
DTEND;TZID=America/Los_Angeles:20211209T150000
DTSTAMP:20260420T051804
CREATED:20210609T100440Z
LAST-MODIFIED:20210609T100440Z
UID:10000186-1639054800-1639062000@centraloregonlocavore.org
SUMMARY:Mommy & Me Breastfeeding Support Group
DESCRIPTION:The Mommy & Me Breastfeeding Support Group meets weekly in the Central Oregon Locavore event space on Thursdays from 1:00pm – 3:00pm. Lactation consultants on hand from St. Charles and WIC to weigh babies and answer questions. All are welcome\, including partners and siblings\, no matter how you are feeding your baby.
URL:https://centraloregonlocavore.org/event/mommy-me-breastfeeding-support-group/2021-12-09/
ATTACH;FMTTYPE=image/jpeg:https://centraloregonlocavore.org/wp-content/uploads/2021/03/mommy-and-me.jpg
END:VEVENT
BEGIN:VEVENT
DTSTART;TZID=America/Los_Angeles:20211202T130000
DTEND;TZID=America/Los_Angeles:20211202T150000
DTSTAMP:20260420T051804
CREATED:20210609T100440Z
LAST-MODIFIED:20210609T100440Z
UID:10000185-1638450000-1638457200@centraloregonlocavore.org
SUMMARY:Mommy & Me Breastfeeding Support Group
DESCRIPTION:The Mommy & Me Breastfeeding Support Group meets weekly in the Central Oregon Locavore event space on Thursdays from 1:00pm – 3:00pm. Lactation consultants on hand from St. Charles and WIC to weigh babies and answer questions. All are welcome\, including partners and siblings\, no matter how you are feeding your baby.
URL:https://centraloregonlocavore.org/event/mommy-me-breastfeeding-support-group/2021-12-02/
ATTACH;FMTTYPE=image/jpeg:https://centraloregonlocavore.org/wp-content/uploads/2021/03/mommy-and-me.jpg
END:VEVENT
BEGIN:VEVENT
DTSTART;TZID=UTC:20211127T100000
DTEND;TZID=UTC:20211127T113000
DTSTAMP:20260420T051804
CREATED:20211030T045157Z
LAST-MODIFIED:20211030T045157Z
UID:10000219-1638007200-1638012600@centraloregonlocavore.org
SUMMARY:Fermentation Revivalist Sandor Katz
DESCRIPTION:Join us Saturday\, November 27 to hear from fermentation revivalist Sandor Katz. Sandor has both taught and learned about fermentation in dozens of countries around the world. Hear about his journeys and his new book\, learn about Chinese techniques for fermenting vegetables\, and ask him anything fermentation-related that you might be curious about. $10 for Locavore members\, $15 for non-members and $5 for SNAP/WIC recipients.
URL:https://centraloregonlocavore.org/event/fermentation-revivalist-sandor-katz/
CATEGORIES:Locavore Food School
ATTACH;FMTTYPE=image/jpeg:https://centraloregonlocavore.org/wp-content/uploads/2021/10/Sandor_Katz__c__Catherine_Opie_t9hmlx.jpg
END:VEVENT
BEGIN:VEVENT
DTSTART;TZID=America/Los_Angeles:20211125T130000
DTEND;TZID=America/Los_Angeles:20211125T150000
DTSTAMP:20260420T051804
CREATED:20210609T100440Z
LAST-MODIFIED:20210609T100440Z
UID:10000184-1637845200-1637852400@centraloregonlocavore.org
SUMMARY:Mommy & Me Breastfeeding Support Group
DESCRIPTION:The Mommy & Me Breastfeeding Support Group meets weekly in the Central Oregon Locavore event space on Thursdays from 1:00pm – 3:00pm. Lactation consultants on hand from St. Charles and WIC to weigh babies and answer questions. All are welcome\, including partners and siblings\, no matter how you are feeding your baby.
URL:https://centraloregonlocavore.org/event/mommy-me-breastfeeding-support-group/2021-11-25/
ATTACH;FMTTYPE=image/jpeg:https://centraloregonlocavore.org/wp-content/uploads/2021/03/mommy-and-me.jpg
END:VEVENT
BEGIN:VEVENT
DTSTART;TZID=America/Los_Angeles:20211118T130000
DTEND;TZID=America/Los_Angeles:20211118T150000
DTSTAMP:20260420T051804
CREATED:20210609T100440Z
LAST-MODIFIED:20210609T100440Z
UID:10000183-1637240400-1637247600@centraloregonlocavore.org
SUMMARY:Mommy & Me Breastfeeding Support Group
DESCRIPTION:The Mommy & Me Breastfeeding Support Group meets weekly in the Central Oregon Locavore event space on Thursdays from 1:00pm – 3:00pm. Lactation consultants on hand from St. Charles and WIC to weigh babies and answer questions. All are welcome\, including partners and siblings\, no matter how you are feeding your baby.
URL:https://centraloregonlocavore.org/event/mommy-me-breastfeeding-support-group/2021-11-18/
ATTACH;FMTTYPE=image/jpeg:https://centraloregonlocavore.org/wp-content/uploads/2021/03/mommy-and-me.jpg
END:VEVENT
BEGIN:VEVENT
DTSTART;TZID=UTC:20211113T110000
DTEND;TZID=UTC:20211113T150000
DTSTAMP:20260420T051804
CREATED:20210925T081201Z
LAST-MODIFIED:20210925T081201Z
UID:10000217-1636801200-1636815600@centraloregonlocavore.org
SUMMARY:6th Annual Central Oregon ​​​Fill Your Pantry
DESCRIPTION:The 6th Annual Central Oregon ​​​Fill Your Pantry is a community bulk buying event created so YOU can fill up your pantry\, freezer\, and root cellar full of great local products for the winter. Say bye-bye to busy holiday lines and produce that has traveled farther than you during holiday vacations\, and say hello to a cupboard full of local meat\, grains\, vegetables\, ferments\, and more. \nThe Central Oregon Fill Your Pantry will allow you to stock up on items like potatoes\, onions\, leeks\, beets\, winter squash\, garlic\, honey\, flours\, apples\, pears\, dried beans\, krauts\, baked goods\, and more. \nThis is a bulk buying event\, so bring your muscles! Farmers\, ranchers\, orchardists\, and producers will be selling large quantities of items. For example\, 20lb bags of onions\, 50lb bags of potatoes\, 25lb ground beef boxes\, etc. This is a great opportunity for vendors to move product before the harsh Central Oregon winter and a great opportunity for YOU to save money and eat well all winter long.
URL:https://centraloregonlocavore.org/event/6th-annual-central-oregon-fill-your-pantry/
CATEGORIES:Community Events
ATTACH;FMTTYPE=image/jpeg:https://centraloregonlocavore.org/wp-content/uploads/2021/09/fyp-group-2020.jpeg
END:VEVENT
BEGIN:VEVENT
DTSTART;TZID=America/Los_Angeles:20211111T130000
DTEND;TZID=America/Los_Angeles:20211111T150000
DTSTAMP:20260420T051804
CREATED:20210609T100440Z
LAST-MODIFIED:20210609T100440Z
UID:10000182-1636635600-1636642800@centraloregonlocavore.org
SUMMARY:Mommy & Me Breastfeeding Support Group
DESCRIPTION:The Mommy & Me Breastfeeding Support Group meets weekly in the Central Oregon Locavore event space on Thursdays from 1:00pm – 3:00pm. Lactation consultants on hand from St. Charles and WIC to weigh babies and answer questions. All are welcome\, including partners and siblings\, no matter how you are feeding your baby.
URL:https://centraloregonlocavore.org/event/mommy-me-breastfeeding-support-group/2021-11-11/
ATTACH;FMTTYPE=image/jpeg:https://centraloregonlocavore.org/wp-content/uploads/2021/03/mommy-and-me.jpg
END:VEVENT
BEGIN:VEVENT
DTSTART;TZID=UTC:20211106T130000
DTEND;TZID=UTC:20211106T143000
DTSTAMP:20260420T051804
CREATED:20211030T045428Z
LAST-MODIFIED:20211030T045428Z
UID:10000220-1636203600-1636209000@centraloregonlocavore.org
SUMMARY:Sweet Winter Squash Cookery
DESCRIPTION:Learn about how to use winter squash with chef and educator Suzanne Landry on Saturday\, November 6 at 1pm. Enjoy the satisfyingly sweet taste of winter’s best – the winter squash family. They can add sweetness to any dish or stand-alone. Winter squash are hearty\, filling\, and nourishing. Serve as a side dish to any protein but so good you’ll want to eat it alone! We will discuss the wide variety of squash\, when\, and how to use them. From acorn to butternut\, kuri\, kabocha\, and spaghetti\, we will cover them and more. $7 for Locavore members\, $10 for non-members and free for SNAP/Wic recipients.
URL:https://centraloregonlocavore.org/event/sweet-winter-squash-cookery/
CATEGORIES:Locavore Food School
ATTACH;FMTTYPE=image/jpeg:https://centraloregonlocavore.org/wp-content/uploads/2021/10/images-3.jpeg
END:VEVENT
END:VCALENDAR